BEGIN:VCALENDAR
VERSION:2.0
PRODID:-//The Bridge Open Bible Church - ECPv6.15.18//NONSGML v1.0//EN
CALSCALE:GREGORIAN
METHOD:PUBLISH
X-WR-CALNAME:The Bridge Open Bible Church
X-ORIGINAL-URL:https://thebridgeopenbible.com
X-WR-CALDESC:Events for The Bridge Open Bible Church
REFRESH-INTERVAL;VALUE=DURATION:PT1H
X-Robots-Tag:noindex
X-PUBLISHED-TTL:PT1H
BEGIN:VTIMEZONE
TZID:America/Los_Angeles
BEGIN:DAYLIGHT
TZOFFSETFROM:-0800
TZOFFSETTO:-0700
TZNAME:PDT
DTSTART:20220313T100000
END:DAYLIGHT
BEGIN:STANDARD
TZOFFSETFROM:-0700
TZOFFSETTO:-0800
TZNAME:PST
DTSTART:20221106T090000
END:STANDARD
BEGIN:DAYLIGHT
TZOFFSETFROM:-0800
TZOFFSETTO:-0700
TZNAME:PDT
DTSTART:20230312T100000
END:DAYLIGHT
BEGIN:STANDARD
TZOFFSETFROM:-0700
TZOFFSETTO:-0800
TZNAME:PST
DTSTART:20231105T090000
END:STANDARD
BEGIN:DAYLIGHT
TZOFFSETFROM:-0800
TZOFFSETTO:-0700
TZNAME:PDT
DTSTART:20240310T100000
END:DAYLIGHT
BEGIN:STANDARD
TZOFFSETFROM:-0700
TZOFFSETTO:-0800
TZNAME:PST
DTSTART:20241103T090000
END:STANDARD
END:VTIMEZONE
BEGIN:VEVENT
DTSTART;TZID=America/Los_Angeles:20230416T100000
DTEND;TZID=America/Los_Angeles:20230416T113000
DTSTAMP:20260425T115000
CREATED:20230414T023307Z
LAST-MODIFIED:20230414T023307Z
UID:1569-1681639200-1681644600@thebridgeopenbible.com
SUMMARY:Sunday Morning Service
DESCRIPTION:Baptisms this week
URL:https://thebridgeopenbible.com/event/sunday-morning-service/
END:VEVENT
BEGIN:VEVENT
DTSTART;TZID=America/Los_Angeles:20230415T090000
DTEND;TZID=America/Los_Angeles:20230415T140000
DTSTAMP:20260425T115000
CREATED:20230414T034030Z
LAST-MODIFIED:20230414T034030Z
UID:1581-1681549200-1681567200@thebridgeopenbible.com
SUMMARY:Leadership Day
DESCRIPTION:Lunch will be served
URL:https://thebridgeopenbible.com/event/leadership-day/
LOCATION:The Bridge\, 90886 Coburg Rd\, Eugene\, OR\, 97408\, United States
END:VEVENT
END:VCALENDAR